BEGIN:VCALENDAR
VERSION:2.0
PRODID:icalendar-ruby
CALSCALE:GREGORIAN
METHOD:PUBLISH
BEGIN:VEVENT
DTSTAMP:20260425T002708Z
UID:39-602565@myglconline.com
DTSTART:20261101T150000Z
DTEND:20261101T160000Z
CLASS:PUBLIC
CREATED:20260424T184545
DESCRIPTION:Sunday Service
LAST-MODIFIED:20260424T184545
LOCATION:
SUMMARY:Sunday Service
URL;VALUE=URI:https://myglconline.com/events/sunday-service/2026-11-01
END:VEVENT
END:VCALENDAR
